Workbook
Name commercialmodel: 'List and tickboxes'!$C$36:$C$42
Name Currency: 'List and tickboxes'!$A$1:$A$164
Name Payment: 'List and tickboxes'!$C$26:$C$29
Name services: 'List and tickboxes'!$C$5:$C$7
Name Smartphone: 'List and tickboxes'!$C$31:$C$34
Name Type: 'List and tickboxes'!$C$11:$C$15
Name VA: '[1]Mobile Insurance'!$L$47:$L$49
Name VAS: 'List and tickboxes'!$C$19:$C$20
Name YesBut: 'List and tickboxes'!$C$5:$C$7
Name YN: 'List and tickboxes'!$C$1:$C$2
Name YNU: 'List and tickboxes'!$C$44:$C$46

Sheet Mobile Insurance
L1: Yes | N1: AED - United Arab Emirates Dirham
B2: Insurance enabled by Mobile Money 2016 Global Adoption Survey | L2: No | N2: AFN - Afghanistan Afghani
N3: ALL - Albania Lek
N4: AMD - Armenia Dram
L5: Yes | N5: ANG - Netherlands Antilles Guilder
L6: No, but I am planning to launch it within the next year | N6: AOA - Angola Kwanza
B7: In this questionnaire, participants are asked to report data for 4 months of the year: September 2015, December 2015, March 2016 and June 2016. Please provide numbers for each of these months, not for the full quarter. | L7: No, and I am not planning to launch it within the next year | N7: ARS - Argentina Peso
N8: AUD - Australia Dollar
B9: MOBILE INSURANCE | N9: AWG - Aruba Guilder
N10: AZN - Azerbaijan New Manat
B11: Insurance enabled by mobile money uses the mobile money account offer micro-insurance services. Insurance services who meet the following criteria are eligible to participate in the survey: • The service must allow customers to manage risks by providing a guarantee of compensation for specified loss, damage, illness or death. • To use the service the customer must have a mobile money account. • The customers should be able to pay the premium using the mobile account, and receive the claim using the mobile account (unless the beneficiary mobile money account has exceeded the limit, or the beneficiary does not have a mobile money account). • The insurance product should be technically integrated with the mobile money account, and rely heavily on mobile technology throughout the customer journey. • Services where the mobile phone is just another channel for the clients of an insurance company to access a traditional insurance products should not be included. • The service must offer customers an interface for managing the insurance product for customers that is available on mobile devices (SMS, USSD, call center, smartphone app) Disclaimer: Many mobile insurance services rely on airtime deduction to pay for premiums. Although airtime-based services are not enabled by mobile money, airtime-based insurance is unique as it has proven to be a stepping stone for mobile money-based insurance products. Therefore, we will continue to track airtime-based insurance services despite these services are outside our current scope. If you service is airtime-based - please fill in the questionnaire | L11: Life / funeral insurance | N11: BAM - Bosnia and Herzegovina Convertible Marka
L12: Health / hospital insurance | N12: BBD - Barbados Dollar
B13: If you offer multiple types of insurance, please complete one questionnaire per type/product | L13: Accident / disability insurance | N13: BDT - Bangladesh Taka
L14: Agriculture / crop / weather index insurance | N14: BGN - Bulgaria Lev
L15: Combination products (e.g., Life and hospital insurance) | N15: BHD - Bahrain Dinar
B16: Do you offer mobile insurance? | J16: =C16 -> 0 | L16: Other | N16: BIF - Burundi Franc
J17: =C17 -> 0 | N17: BMD - Bermuda Dollar
B18: General information | J18: =C18 -> 0 | L18: under VAS or is it within Mobile financial service business unit? | N18: BND - Brunei Darussalam Dollar
J19: =C19 -> 0 | L19: Value added services | N19: BOB - Bolivia Boliviano
B20: Country | J20: =C20 -> 0 | L20: Mobile financial services business unit | N20: BRL - Brazil Real
B21: Name of your organisation | J21: =C21 -> 0 | N21: BSD - Bahamas Dollar
B22: Name of your mobile insurance product | J22: =C22 -> 0 | L22: Premiums can be paid using mobile money | N22: BTN - Bhutan Ngultrum
B23: Currency values reported in (please select from list) | J23: =C23 -> 0 | L23: Premiums are deducted from prepaid airtime accounts | N23: BWP - Botswana Pula
J24: =C24 -> 0 | N24: BYR - Belarus Ruble
B25: Product information | J25: =C25 -> 0 | N25: BZD - Belize Dollar
J26: =C26 -> 0 | L26: Mobile Money | N26: CAD - Canada Dollar
B27: Date of launch (dd/mm/yyyy) | J27: =C27 -> 0 | L27: Airtime deduction | N27: CDF - Congo/Kinshasa Franc
B28: What type of insurance are you providing? (please select from list) | J28: =C28 -> 0 | L28: Both Airtime deduction and Mobile Money | N28: CHF - Switzerland Franc | O28: Regulatory compliance
B29: If other selected, please specify: | J29: =C29 -> 0 | L29: The product is only provided for free | N29: CLP - Chile Peso | O29: Technical capabilities
B30: Which company is your primary partner in offering mobile insurance? | J30: =C30 -> 0 | N30: CNY - China Yuan Renminbi | O30: Special knowledge of customer segment
B31: Why did you choose to partner with this company | J31: =C31 -> 0 | L31: Yes, there is a smartphone app | N31: COP - Colombia Peso | O31: Innovative and new company
J32: =#REF! -> #REF! | L32: Yes, the service is only available on a smartphone app | N32: CRC - Costa Rica Colon | O32: To strengthen the overall product offering
J33: =C33 -> 0 | K33: =COUNTIF(Data!K4:R4, TRUE) -> 0 | L33: No, but we are planning to launch a smartphone app the next 12 months | N33: CUC - Cuba Convertible Peso | O33: Distribution
B34: What are the primary drivers behind your choice to offer mobile insurance? | J34: =C34 -> 0 | L34: No, we are not planning to launch a smartphone app | N34: CUP - Cuba Peso | O34: Access to a new target segment
B35: Choose up to three answers | J35: =C35 -> 0 | N35: CVE - Cape Verde Escudo | O35: Other
J36: =C36 -> 0 | L36: Free insurance tied to customers usage of the mobile money account | N36: CZK - Czech Republic Koruna
B37: Please select three answer or less | J37: =E37 -> 0 | L37: Free insurance tied to the customers mobile usage/top up | N37: DJF - Djibouti Franc
J38: =C38 -> 0 | L38: Mobile Money "freemium" product | N38: DKK - Denmark Krone
J39: =C39 -> 0 | L39: Mobile "freemium" product | N39: DOP - Dominican Republic Peso
J40: =C40 -> 0 | L40: Premium product | N40: DZD - Algeria Dinar
J41: =C41 -> 0 | L41: Other | N41: EGP - Egypt Pound
B42: What are the target customer segment(s) for your insurance product? | J42: =C42 -> 0 | N42: ERN - Eritrea Nakfa
B43: Please select all that apply | J43: =E43 -> 0 | N43: ETB - Ethiopia Birr
J44: =C44 -> 0 | L44: Yes | N44: EUR - Euro Member Countries
J45: =C45 -> 0 | L45: No | N45: FJD - Fiji Dollar
J46: =C46 -> 0 | L46: Undecided | M46: Free insurance tied to customers usage of the mobile money account | N46: FKP - Falkland Islands (Malvinas) Pound
B47: What commercial model does this product have? | J47: =C47 -> 0 | M47: Free insurance tied to the customers mobile usage/top up | N47: GBP - United Kingdom Pound
B48: If other, please specify: | J48: =C48 -> 0 | M48: Mobile Money "freemium" product | N48: GEL - Georgia Lari
J49: =C49 -> 0 | M49: Mobile "freemium" product | N49: GGP - Guernsey Pound
J50: =C50 -> 0 | M50: Premium product | N50: GHS - Ghana Cedi
J51: =C51 -> 0 | M51: Other | N51: GIP - Gibraltar Pound
B52: How can subscribers pay their premium? | J52: =C52 -> 0 | N52: GMD - Gambia Dalasi
B53: Can your subscribers receive their claims via mobile money? | J53: =C53 -> 0 | N53: GNF - Guinea Franc
J54: =C54 -> 0 | N54: GTQ - Guatemala Quetzal
C55: 42248 | E55: 42339 | G55: 42430 | I55: 42522 | J55: =C55 -> 42248 | N55: GYD - Guyana Dollar
B56: Number of policies issued (cumulative total) | J56: =C56 -> 0 | N56: HKD - Hong Kong Dollar
B57: Number of policies in force (active) | J57: =C57 -> 0 | N57: HNL - Honduras Lempira
B58: Number of beneficiaries | J58: =C58 -> 0 | N58: HRK - Croatia Kuna
B59: What % of subscribers are paying for insurance? | J59: =C59 -> 0 | N59: HTG - Haiti Gourde
J60: =C60 -> 0 | N60: HUF - Hungary Forint
C61: 42248 | E61: 42339 | G61: 42430 | I61: 42522 | J61: =C61 -> 42248 | N61: IDR - Indonesia Rupiah
B62: What % of premiums collected for this insurance is paid out in claims during the month? | J62: =C62 -> 0 | N62: ILS - Israel Shekel
J63: =C64 -> 0 | N63: IMP - Isle of Man Pound
B64: When a customer makes a claim, on average, how many working days pass between paying the correct documentation paying a claim? | J64: =C65 -> 0 | N64: INR - India Rupee
J65: =C66 -> 0 | N65: IQD - Iraq Dinar
B66: Does your service offer a smartphone app for customers to manage their policies? | J66: =C67 -> 0 | N66: IRR - Iran Rial
J67: =C68 -> 0 | N67: ISK - Iceland Krona
B68: Are you planning to expand your insurance products offering in the next year? | N68: JEP - Jersey Pound
N69: JMD - Jamaica Dollar
N70: JOD - Jordan Dinar
N71: JPY - Japan Yen
N72: KES - Kenya Shilling
B73: Removed questions | N73: KGS - Kyrgyzstan Som
N74: KHR - Cambodia Riel
C75: Customers can subscribe using their mobile | E75: Customers can register at a mobile money agent | G75: Customers can only register at the insurer's agency | I75: Other - Please specify | N75: KMF - Comoros Franc
B76: How can people subscribe to your mobile insurance service? | N76: KPW - Korea (North) Won
B77: Please select all that apply | N77: KRW - Korea (South) Won
C78: No | E78: Yes, for all customers | G78: Yes, but only for customers who have a certain level of GSM usage | I78: Yes, but only for customers who have a certain level of mobile money activity | N78: KWD - Kuwait Dinar
B79: Is the insurance provided for free? | N79: KYD - Cayman Islands Dollar
N80: KZT - Kazakhstan Tenge
B81: Can your subscribers pay their premiums via mobile money? | N81: LAK - Laos Kip
B82: Can your subscribers pay their premiums via airtime? | N82: LBP - Lebanon Pound
B83: Can your subscribers receive their claims via mobile money? | N83: LKR - Sri Lanka Rupee
N84: LRD - Liberia Dollar
N85: LSL - Lesotho Loti
B86: Number of claims that have been paid out to customer during the month | N86: LTL - Lithuania Litas
B87: Value of claims that have been paid out to customers during the month | N87: LVL - Latvia Lat
B88: Number of premiums that have been paid by customers during the month | N88: LYD - Libya Dinar
B89: Value of premiums that have been paid by customers during the month | N89: MAD - Morocco Dirham
N90: MDL - Moldova Leu
B91: Number of full-time employees (including partner organisations) in June | N91: MGA - Madagascar Ariary
N92: MKD - Macedonia Denar
B93: Where does your mobile insurance service sit? (please select one) | N93: MMK - Myanmar (Burma) Kyat
N94: MNT - Mongolia Tughrik
N95: MOP - Macau Pataca
N96: MRO - Mauritania Ouguiya
N97: MUR - Mauritius Rupee
N98: MVR - Maldives (Maldive Islands) Rufiyaa
N99: MWK - Malawi Kwacha
N100: MXN - Mexico Peso
...

Sheet Data
K2: What are the primary drivers behind your choice to offer mobile insurance? | T2: What are the target customer segment(s) for your insurance product? | AD2: Number of policies issued (cumulative total) | AH2: Number of policies in force (active) | AL2: Number of beneficiaries | AP2: What % of subscribers are paying for insurance? | AT2: What % of premiums collected for this insurance is paid out in claims during the month?
A3: Do you offer mobile insurance? | B3: Country | C3: Name of your organisation | D3: Name of your mobile insurance product | E3: Currency values reported in (please select from list) | F3: Date of launch (dd/mm/yyyy) | G3: What type of insurance are you providing? (please select from list) | H3: If other selected, please specify: | I3: Which company is your primary partner in offering mobile insurance? | J3: Why did you choose to partner with this company | K3: Commission | L3: Loyalty | M3: ARPU | N3: New customers | O3: Savings | P3: Brand | Q3: FS portfolio | R3: Other | S3: Specify | T3: Mass-market | U3: Women | V3: Families | W3: Farmers | X3: Others | Y3: Specify | Z3: What commercial model does this product have? | AA3: Other | AB3: How can customers pay their premium | AC3: Can your subscribers receive their claims via mobile money? | AD3: 42248 | AE3: 42339 | AF3: 42430 | AG3: 42522 | AH3: 42248 | AI3: 42339 | AJ3: 42430 | AK3: 42522 | AL3: 42248 | AM3: 42339 | AN3: 42430 | AO3: 42522 | AP3: 42248 | AQ3: 42339 | AR3: 42430 | AS3: 42522 | AT3: 42248 | AU3: 42339 | AV3: 42430 | AW3: 42522 | AX3: Claim time | AY3: App | AZ3: More services
A4: ='Mobile Insurance'!J16 -> 0 | B4: ='Mobile Insurance'!J20 -> 0 | C4: ='Mobile Insurance'!J21 -> 0 | D4: ='Mobile Insurance'!J22 -> 0 | E4: ='Mobile Insurance'!J23 -> 0 | F4: ='Mobile Insurance'!J27 -> 0 | G4: ='Mobile Insurance'!J28 -> 0 | H4: ='Mobile Insurance'!J29 -> 0 | I4: ='Mobile Insurance'!J30 -> 0 | J4: ='Mobile Insurance'!J31 -> 0 | K4: FALSE | L4: FALSE | M4: FALSE | N4: FALSE | O4: FALSE | P4: FALSE | Q4: FALSE | R4: FALSE | S4: ='Mobile Insurance'!J37 -> 0 | T4: FALSE | U4: FALSE | V4: FALSE | W4: FALSE | X4: FALSE | Y4: ='Mobile Insurance'!J43 -> 0 | Z4: ='Mobile Insurance'!J47 -> 0 | AA4: ='Mobile Insurance'!J48 -> 0 | AB4: ='Mobile Insurance'!J52 -> 0 | AC4: ='Mobile Insurance'!C53 -> 0 | AD4: ='Mobile Insurance'!C56 -> 0 | AE4: ='Mobile Insurance'!E56 -> 0 | AF4: ='Mobile Insurance'!G56 -> 0 | AG4: ='Mobile Insurance'!I56 -> 0 | AH4: ='Mobile Insurance'!C57 -> 0 | AI4: ='Mobile Insurance'!E57 -> 0 | AJ4: ='Mobile Insurance'!G57 -> 0 | AK4: ='Mobile Insurance'!I57 -> 0 | AL4: ='Mobile Insurance'!C58 -> 0 | AM4: ='Mobile Insurance'!E58 -> 0 | AN4: ='Mobile Insurance'!G58 -> 0 | AO4: ='Mobile Insurance'!I58 -> 0 | AP4: ='Mobile Insurance'!C59 -> 0 | AQ4: ='Mobile Insurance'!E59 -> 0 | AR4: ='Mobile Insurance'!G59 -> 0 | AS4: ='Mobile Insurance'!I59 -> 0 | AT4: ='Mobile Insurance'!C62 -> 0 | AU4: ='Mobile Insurance'!E62 -> 0 | AV4: ='Mobile Insurance'!G62 -> 0 | AW4: ='Mobile Insurance'!I62 -> 0 | AX4: ='Mobile Insurance'!C64 -> 0 | AY4: ='Mobile Insurance'!J65 -> 0 | AZ4: ='Mobile Insurance'!J67 -> 0

Sheet List and tickboxes
A1: AED - United Arab Emirates Dirham | C1: Yes
A2: AFN - Afghanistan Afghani | C2: No
A3: ALL - Albania Lek | D3: Tickbox 1: | E3: Partner organisations
A4: AMD - Armenia Dram
A5: ANG - Netherlands Antilles Guilder | C5: Yes | D5: MNO | E5: TRUE
A6: AOA - Angola Kwanza | C6: No, but I am planning to launch it within the next year | D6: Insurance company
A7: ARS - Argentina Peso | C7: No, and I am not planning to launch it within the next year | D7: Insurance specialist
A8: AUD - Australia Dollar | D8: MFI
A9: AWG - Aruba Guilder | D9: Other
A10: AZN - Azerbaijan New Manat
A11: BAM - Bosnia and Herzegovina Convertible Marka | C11: Life/funeral insurance
A12: BBD - Barbados Dollar | C12: Health/hospital insurance
A13: BDT - Bangladesh Taka | C13: Accidental death/disability insurance
A14: BGN - Bulgaria Lev | C14: Agriculture/crop/weather index insurance
A15: BHD - Bahrain Dinar | C15: Combination products (eg. Life and hospital cash)
A16: BIF - Burundi Franc | C16: Other
A17: BMD - Bermuda Dollar
A18: BND - Brunei Darussalam Dollar | C18: under VAS or is it within Mobile financial service business unit?
A19: BOB - Bolivia Boliviano | C19: Value added services
A20: BRL - Brazil Real | C20: Mobile financial services business unit
A21: BSD - Bahamas Dollar
A22: BTN - Bhutan Ngultrum | C22: Premiums can be paid using mobile money
A23: BWP - Botswana Pula | C23: Premiums are deducted from prepaid airtime accounts
A24: BYR - Belarus Ruble
A25: BZD - Belize Dollar
A26: CAD - Canada Dollar | C26: Mobile Money
A27: CDF - Congo/Kinshasa Franc | C27: Airtime deduction
A28: CHF - Switzerland Franc | C28: Both Airtime deduction and Mobile Money
A29: CLP - Chile Peso | C29: The product is only provided for free
A30: CNY - China Yuan Renminbi
A31: COP - Colombia Peso | C31: Yes, there is a smartphone app
A32: CRC - Costa Rica Colon | C32: No, but we are planning to launch a smartphone app the next six months
A33: CUC - Cuba Convertible Peso | C33: No, but we are planning to launch a smartphone app the next 12 months
A34: CUP - Cuba Peso | C34: No, we are not planning to launch a smartphone app
A35: CVE - Cape Verde Escudo
A36: CZK - Czech Republic Koruna | C36: Free insurance tied to customers usage of the mobile money account
A37: DJF - Djibouti Franc | C37: Free insurance tied to the customers mobile usage/top up
A38: DKK - Denmark Krone | C38: Mobile Money "freemium" product
A39: DOP - Dominican Republic Peso | C39: Mobile "freemium" product
A40: DZD - Algeria Dinar | C40: Premium product
A41: EGP - Egypt Pound | C41: Other
A42: ERN - Eritrea Nakfa
A43: ETB - Ethiopia Birr
A44: EUR - Euro Member Countries | C44: Yes
A45: FJD - Fiji Dollar | C45: No
A46: FKP - Falkland Islands (Malvinas) Pound | C46: Undecided
A47: GBP - United Kingdom Pound
A48: GEL - Georgia Lari
A49: GGP - Guernsey Pound
A50: GHS - Ghana Cedi
A51: GIP - Gibraltar Pound
A52: GMD - Gambia Dalasi
A53: GNF - Guinea Franc
A54: GTQ - Guatemala Quetzal
A55: GYD - Guyana Dollar
A56: HKD - Hong Kong Dollar
A57: HNL - Honduras Lempira
A58: HRK - Croatia Kuna
... A164: ZWD - Zimbabwe Dollar

Sheet Definitions
B2: The 2015 Global Mobile Money Adoption Survey
B8: Key definitions
B10: Policies issued | C10: The cumulative number of policies that have been issued since the launch of the service.
B11: Policies in force | C11: The number of policies that are in force rather than lapsed, effectively protecting the subscribers.
B12: Beneficiaries | C12: The total number of people benefiting from the insurance, including both subscribers of the policy and indirect beneficiaries such as relatives being covered under the policy.
