Workbook

Sheet Instructions & Glossary
B1: INCLUSIVE DIGITAL AGRICULTURE TOOL
B2: What is the tool? This tool contains a list of practical recommendations on how to strengthen the inclusivity of a digital agriculture service addressing the following use cases: digital advisory services, agricultural digital financial services (Agri DFS), digital procurement. The tool/best practice recommendations are presented in order of the product development cycle stages (see the tabs 1 to 7 under content, below). Who is the tool for? - This tool is most beneficial for organisations that are currently planning or have already started development of an agriculture service addressing the use cases above. The tool will help you determine which best practice recommendations to follow to strengthen the inclusivity of your service. - Alternatively, if you have already developed a digital agriculture service, you can use the set of best practice recommendations to assess and determine the inclusivity of your service and identify areas or activities that could be strengthened. Anyone involved in the product development can complete the tool (e.g. product manager, UX research lead, etc.). You could either work through all tabs if you are considering iterations for your service or you could go straight to the Product Launch and/or Scale tab if you have a developed but not yet launched/scaled service. How to use the tool - You can either complete all tabs or focus on specific product development stages/tabs. - Product development stages (Column A) are split into phases with specific recommendations (column B) and general questions to ask the development team for each phase and are therefore colour-coded. - Each recommendation contributes to making the digital solution inclusive to all farmers, regardless of ability, characteristic or personal factor such as experiences and education. - The activity checklist (column D) can be used to assess your service by choosing yes / to some extent / no in the relevant use case column for your digital solution (e.g. digital advisory services, Agri DFS and digital procurement (columns E to M); depending on your solution, not all might be relevant.). You can add notes/explanations/past activities in column R of the different tabs. - All yes answers will be counted as a score of 1, all to some extent as 0.5 and all no answers as 0. To see your overall score, please see tab "Scores". You should only select one answer per use case. A message in red in column O will alert you if you selected more than one option. - Scores should be interpreted by stage (e.g. the higher the score, the more inclusive the stage of your service). The colours on the score tab will indicate the strength of your service's inclusivity aspect by product development cycle stage. No overall score is provided because the focus of the tool is on identifying which stages need to be improved to increase inclusivity. Steps you can follow to complete this tool - Determine which tabs are relevant for you. - Go through the activity checklist and respond yes/to some extent/no to each question for the relevant use cases. - Look at your scores (either after completing one or all tabs) and reflect on which areas you could strengthen. - Then revisit the recommendations, the activity checklists and your own notes on the tabs you scored lower. We are aware that some parts of the GSMA website and this form may not be fully accessible, and we are working to improve this wherever possible. Should you require any support or are having any accessibility issues completing the form, please email agritech@gsma.com. We would also love to hear from you regarding your experience in general in making services more inclusive and/or in using this tool. THIS INITIATIVE IS CURRENTLY FUNDED BY THE UK FOREIGN, COMMONWEALTH & DEVELOPMENT OFFICE (FCDO), AND SUPPORTED BY THE GSMA AND ITS MEMBERS.
B7: Content
B8: 1 - Set-up | C8: 2 - UX research planning | D8: 3 - UX research | E8: 4 - Product development | F8: 5 - User acceptance testing | G8: 6 - Product launch | H8: 7 - Product scale
B10: Glossary
B11: Accessibility | C11: Implies ensuring that PWDs are able to have access to the physical environment around them, to transportation, to information, communication technology and systems on equal basis as others.
B12: Accessibility features | C12: Include any accessible technology, assistive technology, specialty hardware or software that are built-in, or added on to products. They aim to make the technology easier to use by meeting a user preference, need or facilitating interaction.
B13: Accessible formats | C13: Information available in e.g. (but not limited to) braille, large print, text-to-speech, oral presentation, screen-reader compatibility, captioned or signed video, or icons.
B14: Agri DFS | C14: Digitally-enabled financial services for smallholders to facilitate their inclusion in the formal financial economy and allow investment in farming activities. These services are customised to meet farmers' needs and tailored to suit their cropping cycles. This category also includes financial products that enable financial service providers to lower the risk of lending to smallholders.
B15: AI | C15: Artificial intelligence
B16: ARPU | C16: Average revenue per user
B17: Assistive technology | C17: Any information and communications technology, product, device, equipment or related service used to maintain, increase or improve the functional capabilities of individuals with specific needs.
B18: Digital advisory services | C18: Information-based services providing smallholder farmers with agronomic and livestock advice and best practices, information on market prices, weather and climate information as well as financial and digital literacy training.
B19: Digital procurement | C19: Digital solutions in the agricultural last mile that enable a range of digital systems and processes to transition from paper to digital. These solutions help agribusinesses increase transparency in their transactions with smallholders and improve efficiency and operational profitability. At the same time, farmers benefit from more transparent transactions, improved market access and from being able to access a digital footprint, which can be used to access financial services
B20: Inclusion | C20: When all people participate in all aspects of civil, political, social and economic life. The The disability rights movement advocates for inclusion at all levels, in compliance with the UN Convention of the Rights of Persons with Disabilities (CRPD).
B21: ID | C21: Identity document
B22: IVR | C22: Interactive voice response
... B32: USSD | C32: Unstructured supplementary service data

Sheet 1 - Set-up 
A1: Stage | B1: Set-up | D1: Activity checklist | E1: Digital advisory services | H1: Agri DFS | K1: Digital procurement | N1: Explain your answer | O1: Any errors | P1: CHECK
D2: Does your team have/Are you planning to: | E2: Yes | F2: To Some Extent | G2: No | H2: Yes | I2: To Some Extent | J2: No | K2: Yes | L2: To Some Extent | M2: No
A3: Phase Capacity Development | B3: Recommendation Consider engaging inclusion experts | D3: Inclusion expertise | E3: FALSE | F3: FALSE | G3: FALSE | H3: FALSE | I3: FALSE | J3: FALSE | K3: FALSE | L3: FALSE | M3: FALSE | O3: =IF(OR(P3>1,Q3>1,R3>1),"Please only select one answer, per row, per use case","") | P3: =COUNTIF(E3:G3,"true") -> 0 | Q3: =COUNTIF(H3:J3,"true") -> 0 | R3: =COUNTIF(K3:M3,"true") -> 0
D4: Discuss inclusion of gender, persons with disabilities, youth etc with pipeline and existing partners to identify which areas of inclusion are of most interest to them. | E4: FALSE | F4: FALSE | G4: FALSE | H4: FALSE | I4: FALSE | J4: FALSE | K4: FALSE | L4: FALSE | M4: FALSE | O4: =IF(OR(P4>1,Q4>1,R4>1),"Please only select one answer, per row, per use case","") | P4: =COUNTIF(E4:G4,"true") -> 0 | Q4: =COUNTIF(H4:J4,"true") -> 0 | R4: =COUNTIF(K4:M4,"true") -> 0
D5: Include specific parameters as part of the farmer profiles that can identify gender, age, disability, preferred language etc.to help with later BI assessment of usage trends amongst specific groups being targeted for building an inclusive service. | E5: FALSE | F5: FALSE | G5: FALSE | H5: FALSE | I5: FALSE | J5: FALSE | K5: FALSE | L5: FALSE | M5: FALSE | O5: =IF(OR(P5>1,Q5>1,R5>1),"Please only select one answer, per row, per use case","") | P5: =COUNTIF(E5:G5,"true") -> 0 | Q5: =COUNTIF(H5:J5,"true") -> 0 | R5: =COUNTIF(K5:M5,"true") -> 0
D6: Engage an expert organisation, e.g. a OPD to increase internal capabilities related to inclusion or a technical expert or adviser in the field of disability inclusion. | E6: FALSE | F6: FALSE | G6: FALSE | H6: FALSE | I6: FALSE | J6: FALSE | K6: FALSE | L6: FALSE | M6: FALSE | O6: =IF(OR(P6>1,Q6>1,R6>1),"Please only select one answer, per row, per use case","") | P6: =COUNTIF(E6:G6,"true") -> 0 | Q6: =COUNTIF(H6:J6,"true") -> 0 | R6: =COUNTIF(K6:M6,"true") -> 0
A7: Ask your team | B7: Do you have inclusion expertise on the team? | D7: Reach out to the International Disability Alliance who can signpost if you are not aware of OPDs in your area. | E7: FALSE | F7: FALSE | G7: FALSE | H7: FALSE | I7: FALSE | J7: FALSE | K7: FALSE | L7: FALSE | M7: FALSE | O7: =IF(OR(P7>1,Q7>1,R7>1),"Please only select one answer, per row, per use case","") | P7: =COUNTIF(E7:G7,"true") -> 0 | Q7: =COUNTIF(H7:J7,"true") -> 0 | R7: =COUNTIF(K7:M7,"true") -> 0
R9: =COUNTIF(P3:R7,">1.9") -> 0
D10: Total | E10: =COUNTIF(E3:E7,TRUE)+COUNTIF(F3:F7,TRUE)/2 -> 0 | H10: =COUNTIF(H3:H7,TRUE)+COUNTIF(I3:I7,TRUE)/2 -> 0 | K10: =COUNTIF(K3:K7,TRUE)+COUNTIF(L3:L7,TRUE)/2 -> 0 | R10: =IF(R9>0.9,"Please check tab for errors","")
E11: =IF(OR($P$3>1, $Q$3>1, $P$4>1, $Q$4>1, $R$4>1, $P$5>1, $Q$5>1, $R$5>1, $P$6>1,$R$3>1, $P$7>1, $Q$6>1, $Q$7>1, $R$6>1,$R$7>1,),"please only select one answer, per row, per use case","") | F11: =IF(OR(G11>1,H11>1,I11>1),"please only select one answer per use case","") -> please only select one answer per use case | G11: =IF(OR(H11>1,I11>1,J11>1),"please only select one answer per use case","") -> please only select one answer per use case | H11: =IF(OR(I11>1,J11>1,K11>1),"please only select one answer per use case","") -> please only select one answer per use case | I11: =IF(OR(J11>1,K11>1,L11>1),"please only select one answer per use case","") -> please only select one answer per use case | J11: =IF(OR(K11>1,L11>1,M11>1),"please only select one answer per use case","") -> please only select one answer per use case | K11: =IF(OR(L11>1,M11>1,N11>1),"please only select one answer per use case","") -> please only select one answer per use case | L11: =IF(OR(M11>1,N11>1,O11>1),"please only select one answer per use case","") -> please only select one answer per use case | M11: =IF(OR(N11>1,O11>1,P11>1),"please only select one answer per use case","")
A13: Please only select one answer per use case per row.
D14: To some extent | G14: =COUNTIF(G6:G7, "To some extent")/2 -> 0 | J14: =COUNTIF(J6:J7, "To some extent")/2 -> 0 | M14: =COUNTIF(M6:M7, "To some extent")/2 -> 0
D15: Yes | G15: =COUNTIF(G6:G7, "Yes") -> 0 | J15: =COUNTIF(J6:J7, "Yes") -> 0 | M15: =COUNTIF(M6:M7, "Yes") -> 0

Sheet 2 - UX research planning
A1: Stage | B1: UX research planning | D1: Activity checklist | E1: Digital advisory services | H1: Agri DFS | K1: Digital procurement | N1: Explain your answer | O1: Any errors | P1: CHECK
D2: Are you planning to: | E2: Yes | F2: To Some Extent | G2: No | H2: Yes | I2: To Some Extent | J2: No | K2: Yes | L2: To Some Extent | M2: No
A3: Phase | B3: Recommendation | D3: Organise several research sessions adapted to specific impairments, genders, or languages. Ask participants what their access requirements are at the start of the research. | E3: FALSE | F3: FALSE | G3: FALSE | H3: FALSE | I3: FALSE | J3: FALSE | K3: FALSE | L3: FALSE | M3: FALSE | O3: =IF(OR(P3>1,Q3>1,R3>1),"Please only select one answer, per row, per use case","") | P3: =COUNTIF(E3:G3,"true") -> 0 | Q3: =COUNTIF(H3:J3,"true") -> 0 | R3: =COUNTIF(K3:M3,"true") -> 0
D4: Clearly communicate the intention of the research early on. | E4: FALSE | F4: FALSE | G4: FALSE | H4: FALSE | I4: FALSE | J4: FALSE | K4: FALSE | L4: FALSE | M4: FALSE | O4: =IF(OR(P4>1,Q4>1,R4>1),"Please only select one answer, per row, per use case","") | P4: =COUNTIF(E4:G4,"true") -> 0 | Q4: =COUNTIF(H4:J4,"true") -> 0 | R4: =COUNTIF(K4:M4,"true") -> 0
D5: Use different research methods for different target groups (e.g. testing prototypes with braille, or using voice command features instead of touchpads etc). | E5: FALSE | F5: FALSE | G5: FALSE | H5: FALSE | I5: FALSE | J5: FALSE | K5: FALSE | L5: FALSE | M5: FALSE | O5: =IF(OR(P5>1,Q5>1,R5>1),"Please only select one answer, per row, per use case","") | P5: =COUNTIF(E5:G5,"true") -> 0 | Q5: =COUNTIF(H5:J5,"true") -> 0 | R5: =COUNTIF(K5:M5,"true") -> 0
A6: Research planning | B6: Make research methods more inclusive | D6: Use sign language translators. | E6: FALSE | F6: FALSE | G6: FALSE | H6: FALSE | I6: FALSE | J6: FALSE | K6: FALSE | L6: FALSE | M6: FALSE | O6: =IF(OR(P6>1,Q6>1,R6>1),"Please only select one answer, per row, per use case","") | P6: =COUNTIF(E6:G6,"true") -> 0 | Q6: =COUNTIF(H6:J6,"true") -> 0 | R6: =COUNTIF(K6:M6,"true") -> 0
D7: Translate into local languages. | E7: FALSE | F7: FALSE | G7: FALSE | H7: FALSE | I7: FALSE | J7: FALSE | K7: FALSE | L7: FALSE | M7: FALSE | O7: =IF(OR(P7>1,Q7>1,R7>1),"Please only select one answer, per row, per use case","") | P7: =COUNTIF(E7:G7,"true") -> 0 | Q7: =COUNTIF(H7:J7,"true") -> 0 | R7: =COUNTIF(K7:M7,"true") -> 0
A8: Ask your team | B8: Have research activities and tools been adapted to overcome barriers for participation and representation of different user groups? Do research activities and tools take cultural aspects into consideration? | D8: Be flexible and agile in your research. | E8: FALSE | F8: FALSE | G8: FALSE | H8: FALSE | I8: FALSE | J8: FALSE | K8: FALSE | L8: FALSE | M8: FALSE | O8: =IF(OR(P8>1,Q8>1,R8>1),"Please only select one answer, per row, per use case","") | P8: =COUNTIF(E8:G8,"true") -> 0 | Q8: =COUNTIF(H8:J8,"true") -> 0 | R8: =COUNTIF(K8:M8,"true") -> 0
D9: Build in extra time to connect, follow-up with and report back findings to research participants. | E9: FALSE | F9: FALSE | G9: FALSE | H9: FALSE | I9: FALSE | J9: FALSE | K9: FALSE | L9: FALSE | M9: FALSE | O9: =IF(OR(P9>1,Q9>1,R9>1),"Please only select one answer, per row, per use case","") | P9: =COUNTIF(E9:G9,"true") -> 0 | Q9: =COUNTIF(H9:J9,"true") -> 0 | R9: =COUNTIF(K9:M9,"true") -> 0
D10: Choose a physically accessible and safe space for everyone participating. | E10: FALSE | F10: FALSE | G10: FALSE | H10: FALSE | I10: FALSE | J10: FALSE | K10: FALSE | L10: FALSE | M10: FALSE | O10: =IF(OR(P10>1,Q10>1,R10>1),"Please only select one answer, per row, per use case","") | P10: =COUNTIF(E10:G10,"true") -> 0 | Q10: =COUNTIF(H10:J10,"true") -> 0 | R10: =COUNTIF(K10:M10,"true") -> 0
D11: Collaborate with local partners or cultural translators, and use contextualised examples and metaphors in order to take cultural aspects into account and understand common (and uncommon) cultural practices. | E11: FALSE | F11: FALSE | G11: FALSE | H11: FALSE | I11: FALSE | J11: FALSE | K11: FALSE | L11: FALSE | M11: FALSE | O11: =IF(OR(P11>1,Q11>1,R11>1),"Please only select one answer, per row, per use case","") | P11: =COUNTIF(E11:G11,"true") -> 0 | Q11: =COUNTIF(H11:J11,"true") -> 0 | R11: =COUNTIF(K11:M11,"true") -> 0
D12: Sense check materials with local partners before the research starts. | E12: FALSE | F12: FALSE | G12: FALSE | H12: FALSE | I12: FALSE | J12: FALSE | K12: FALSE | L12: FALSE | M12: FALSE | O12: =IF(OR(P12>1,Q12>1,R12>1),"Please only select one answer, per row, per use case","") | P12: =COUNTIF(E12:G12,"true") -> 0 | Q12: =COUNTIF(H12:J12,"true") -> 0 | R12: =COUNTIF(K12:M12,"true") -> 0
A14: Phase | B14: Recommendation | D14: Involve a diverse group of farmers with different profiles (cultures, genders, ages, persons with disabilities). | E14: FALSE | F14: FALSE | G14: FALSE | H14: FALSE | I14: FALSE | J14: FALSE | K14: FALSE | L14: FALSE | M14: FALSE | O14: =IF(OR(P14>1,Q14>1,R14>1),"Please only select one answer, per row, per use case","") | P14: =COUNTIF(E14:G14,"true") -> 0 | Q14: =COUNTIF(H14:J14,"true") -> 0 | R14: =COUNTIF(K14:M14,"true") -> 0
A15: Research planning | B15: Strive for diversity, both among research participants and your team | D15: Work in partnerships with trusted actors e.g. OPDs or local community groups who can access the target groups, and provide advice on preconditions and contexts. | E15: FALSE | F15: FALSE | G15: FALSE | H15: FALSE | I15: FALSE | J15: FALSE | K15: FALSE | L15: FALSE | M15: FALSE | O15: =IF(OR(P15>1,Q15>1,R15>1),"Please only select one answer, per row, per use case","") | P15: =COUNTIF(E15:G15,"true") -> 0 | Q15: =COUNTIF(H15:J15,"true") -> 0 | R15: =COUNTIF(K15:M15,"true") -> 0
A16: Ask your team | B16: Have you identified and recruited research participants who might be harder to reach? Is your team diverse? | D16: When identifuing researchers and designers for the UX work, consider the diversity of the team and consider including people with disabilities, of different genders, and different minority groups. Where possible, include people with different types of impairment. | E16: FALSE | F16: FALSE | G16: FALSE | H16: FALSE | I16: FALSE | J16: FALSE | K16: FALSE | L16: FALSE | M16: FALSE | O16: =IF(OR(P16>1,Q16>1,R16>1),"Please only select one answer, per row, per use case","") | P16: =COUNTIF(E16:G16,"true") -> 0 | Q16: =COUNTIF(H16:J16,"true") -> 0 | R16: =COUNTIF(K16:M16,"true") -> 0
D17: Make research materials (e.g. workshop materials) accessible. For instance, use tactile materials and surfaces that can help people identify the areas in the template. | E17: FALSE | F17: FALSE | G17: FALSE | H17: FALSE | I17: FALSE | J17: FALSE | K17: FALSE | L17: FALSE | M17: FALSE | O17: =IF(OR(P17>1,Q17>1,R17>1),"Please only select one answer, per row, per use case","") | P17: =COUNTIF(E17:G17,"true") -> 0 | Q17: =COUNTIF(H17:J17,"true") -> 0 | R17: =COUNTIF(K17:M17,"true") -> 0
D19: Total | E19: =COUNTIF(E3:E17,TRUE)+COUNTIF(F3:F17,TRUE)/2 -> 0 | H19: =COUNTIF(H3:H17,TRUE)+COUNTIF(I3:I17,TRUE)/2 -> 0 | K19: =COUNTIF(K3:K17,TRUE)+COUNTIF(L3:L17,TRUE)/2 -> 0
E20: =IF(OR($P$3>1,$P$4>1, $Q$3>1, $Q$4>1, $R$3>1,$R$4>1,$P$5>1,$Q$5>1, $R$5>1, $P$6>1,$Q$6>1, $R$6>1, $P$7>1,$Q$7>1, $R$7>1, $P$8>1,$Q$8>1, $R$8>1, $P$9>1,$Q$9>1, $R$9>1, $P$10>1,$Q$10>1, $R$10>1, $P$12>1,$Q$12>1, $R$12>1, $P$11>1,$Q$11>1, $R$11>1, $P$14>1,$Q$14>1, $R$14>1, $P$15>1,$Q$15>1, $R$15>1, $P$16>1,$Q$16>1, $R$16>1, $P$17>1,$Q$17>1, $R$17>1,),"Please only select one answer, per row, per use case","") | F20: =IF(OR(G20>1,H20>1,I20>1),"please only select one answer per use case","") -> please only select one answer per use case | G20: =IF(OR(H20>1,I20>1,J20>1),"please only select one answer per use case","") -> please only select one answer per use case | H20: =IF(OR(I20>1,J20>1,K20>1),"please only select one answer per use case","") -> please only select one answer per use case | I20: =IF(OR(J20>1,K20>1,L20>1),"please only select one answer per use case","") -> please only select one answer per use case | J20: =IF(OR(K20>1,L20>1,M20>1),"please only select one answer per use case","") -> please only select one answer per use case | K20: =IF(OR(L20>1,M20>1,N20>1),"please only select one answer per use case","") -> please only select one answer per use case | L20: =IF(OR(M20>1,N20>1,O20>1),"please only select one answer per use case","") -> please only select one answer per use case | M20: =IF(OR(N20>1,O20>1,P20>1),"please only select one answer per use case","") | R20: =COUNTIF(P3:R17,">1.9") -> 0
R21: =IF(R20>0.9,"Please check tab for errors","")
D22: To some extent | F22: =COUNTIF(F3:F17, "To some extent")/2 -> 0 | I22: =COUNTIF(I3:I17, "To some extent")/2 -> 0 | L22: =COUNTIF(L3:L17, "To some extent")/2 -> 0
D23: Yes | F23: =COUNTIF(F3:F17, "Yes") -> 0 | I23: =COUNTIF(I3:I17, "Yes") -> 0 | L23: =COUNTIF(L3:L17, "Yes") -> 0 | R23: =IF(R20>0.9,"Please check tab for errors","")
A24: Please only select one answer per use case per row.

Sheet 3 - UX research
A1: Stage | B1: UX research | D1: Activity checklist | E1: Digital advisory services | H1: Agri DFS | K1: Digital procurement | N1: Explain your answer | O1: Any errors | P1: CHECK
D2: Are you planning to: | E2: Yes | F2: To Some Extent | G2: No | H2: Yes | I2: To Some Extent | J2: No | K2: Yes | L2: To Some Extent | M2: No
A3: Phase | B3: Recommendation | D3: Use different research tools such as location maps, user journeys to explore service accessibility; For example, diaries that gather information about a user experience over an extended period of time allow you to better understand users. | E3: FALSE | F3: FALSE | G3: FALSE | H3: FALSE | I3: FALSE | J3: FALSE | K3: FALSE | L3: FALSE | M3: FALSE | O3: =IF(OR(P3>1,Q3>1,R3>1),"Please only select one answer, per row, per use case","") | P3: =COUNTIF(E3:G3,"true") -> 0 | Q3: =COUNTIF(H3:J3,"true") -> 0 | R3: =COUNTIF(K3:M3,"true") -> 0
D4: Listen empathetically and challenge your assumptions to gain in-depth insights. | E4: FALSE | F4: FALSE | G4: FALSE | H4: FALSE | I4: FALSE | J4: FALSE | K4: FALSE | L4: FALSE | M4: FALSE | O4: =IF(OR(P4>1,Q4>1,R4>1),"Please only select one answer, per row, per use case","") | P4: =COUNTIF(E4:G4,"true") -> 0 | Q4: =COUNTIF(H4:J4,"true") -> 0 | R4: =COUNTIF(K4:M4,"true") -> 0
A5: Learn | B5: Understand farmers with different abilities | D5: Seek to gain insight into users' contexts and farming experiences, attitudes, needs, access and use of mobile technology and Internet, digital- and basic literacy and preferred languages, what organisations farmers trust. | E5: FALSE | F5: FALSE | G5: FALSE | H5: FALSE | I5: FALSE | J5: FALSE | K5: FALSE | L5: FALSE | M5: FALSE | O5: =IF(OR(P5>1,Q5>1,R5>1),"Please only select one answer, per row, per use case","") | P5: =COUNTIF(E5:G5,"true") -> 0 | Q5: =COUNTIF(H5:J5,"true") -> 0 | R5: =COUNTIF(K5:M5,"true") -> 0
A6: Ask your team | B6: What are farmers' experiences of working in their current context? Are there specific barriers that can lead to exclusion of disadvantaged groups? | D6: Seek distinct insights into female farmers, and understand cultural barriers, policy and institution barriers: as well as their roles in agriculture, the household, attitudes, and behaviours of mobile technology use. | E6: FALSE | F6: FALSE | G6: FALSE | H6: FALSE | I6: FALSE | J6: FALSE | K6: FALSE | L6: FALSE | M6: FALSE | O6: =IF(OR(P6>1,Q6>1,R6>1),"Please only select one answer, per row, per use case","") | P6: =COUNTIF(E6:G6,"true") -> 0 | Q6: =COUNTIF(H6:J6,"true") -> 0 | R6: =COUNTIF(K6:M6,"true") -> 0
A8: Phase | B8: Recommendation | D8: Involve farmers with different types of abilities in the ideation and design as part of concept realisation. | E8: FALSE | F8: FALSE | G8: FALSE | H8: FALSE | I8: FALSE | J8: FALSE | K8: FALSE | L8: FALSE | M8: FALSE | O8: =IF(OR(P8>1,Q8>1,R8>1),"Please only select one answer, per row, per use case","") | P8: =COUNTIF(E8:G8,"true") -> 0 | Q8: =COUNTIF(H8:J8,"true") -> 0 | R8: =COUNTIF(K8:M8,"true") -> 0
A9: Create | B9: Involve the intended users in the design and testing of the digital solution | D9: Co-create or test icons and illustrations with users to ensure they are intuitive to different types of users. | E9: FALSE | F9: FALSE | G9: FALSE | H9: FALSE | I9: FALSE | J9: FALSE | K9: FALSE | L9: FALSE | M9: FALSE | O9: =IF(OR(P9>1,Q9>1,R9>1),"Please only select one answer, per row, per use case","") | P9: =COUNTIF(E9:G9,"true") -> 0 | Q9: =COUNTIF(H9:J9,"true") -> 0 | R9: =COUNTIF(K9:M9,"true") -> 0
A10: Ask your team | B10: Are the intended users involved in the product development? Are all users able to pass through the user journey? | D10: Go back to farmers you interviewed, after you have a working prototype, to verify that this meets their needs. | E10: FALSE | F10: FALSE | G10: FALSE | H10: FALSE | I10: FALSE | J10: FALSE | K10: FALSE | L10: FALSE | M10: FALSE | O10: =IF(OR(P10>1,Q10>1,R10>1),"Please only select one answer, per row, per use case","") | P10: =COUNTIF(E10:G10,"true") -> 0 | Q10: =COUNTIF(H10:J10,"true") -> 0 | R10: =COUNTIF(K10:M10,"true") -> 0
D11: Identify what is required of the user to be able to access, use and understand the information and messages (e.g. type of device, connection, literacy level). If the expertise is lacking internally, seek expertise from accessibility advisors, persons with disabilities or OPDs. | E11: FALSE | F11: FALSE | G11: FALSE | H11: FALSE | I11: FALSE | J11: FALSE | K11: FALSE | L11: FALSE | M11: FALSE | O11: =IF(OR(P11>1,Q11>1,R11>1),"Please only select one answer, per row, per use case","") | P11: =COUNTIF(E11:G11,"true") -> 0 | Q11: =COUNTIF(H11:J11,"true") -> 0 | R11: =COUNTIF(K11:M11,"true") -> 0
D13: Total | E13: =COUNTIF(E1:E11,TRUE)+COUNTIF(F1:F11,TRUE)/2 -> 0 | H13: =COUNTIF(H1:H11,TRUE)+COUNTIF(I1:I11,TRUE)/2 -> 0 | K13: =COUNTIF(K1:K11,TRUE)+COUNTIF(L1:L11,TRUE)/2 -> 0
E14: =IF(OR($P$3>1,$P$4>1, $Q$3>1, $Q$4>1, $R$3>1,$R$4>1,$P$5>1,$Q$5>1, $R$5>1, $P$6>1,$Q$6>1, $R$6>1, $P$8>1,$Q$8>1, $R$8>1, $P$9>1,$Q$9>1, $R$9>1, $P$10>1,$Q$10>1, $R$10>1, $P$11>1,$Q$11>1, $R$11>1),"Please only select one answer, per row, per use case","") | F14: =IF(OR(G14>1,H14>1,I14>1),"please only select one answer per use case","") -> please only select one answer per use case | G14: =IF(OR(H14>1,I14>1,J14>1),"please only select one answer per use case","") -> please only select one answer per use case | H14: =IF(OR(I14>1,J14>1,K14>1),"please only select one answer per use case","") -> please only select one answer per use case | I14: =IF(OR(J14>1,K14>1,L14>1),"please only select one answer per use case","") -> please only select one answer per use case | J14: =IF(OR(K14>1,L14>1,M14>1),"please only select one answer per use case","") -> please only select one answer per use case | K14: =IF(OR(L14>1,M14>1,N14>1),"please only select one answer per use case","") -> please only select one answer per use case | L14: =IF(OR(M14>1,N14>1,O14>1),"please only select one answer per use case","") -> please only select one answer per use case | M14: =IF(OR(N14>1,O14>1,P14>1),"please only select one answer per use case","") | R14: =COUNTIF(P3:R11,">1.9") -> 0
R15: =IF(R14>0.9,"Please check tab for errors","")
D16: To some extent | F16: =COUNTIF(F3:F11, "To some extent")/2 -> 0 | I16: =COUNTIF(I3:I11, "To some extent")/2 -> 0 | L16: =COUNTIF(L3:L11, "To some extent")/2 -> 0
D17: Yes | F17: =COUNTIF(F3:F11, "Yes") -> 0 | I17: =COUNTIF(I3:I11, "Yes") -> 0 | L17: =COUNTIF(L3:L11, "Yes") -> 0 | R17: =IF(R14>0.9,"Please check tab for errors","")
A18: Please only select one answer per use case per row.

Sheet 4 - Product development
A1: Stage | B1: Product development | D1: Activity checklist | E1: Digital advisory services | H1: Agri DFS | K1: Digital procurement | N1: Explain your answer | O1: Any errors | P1: CHECK
D2: Are you planning to: | E2: Yes | F2: To Some Extent | G2: No | H2: Yes | I2: To Some Extent | J2: No | K2: Yes | L2: To Some Extent | M2: No
A3: Phase | B3: Recommendation | D3: Make the content of the solution available in both 2G and 3/4G networks, and on basic-, feature- and smartphones. | E3: FALSE | F3: FALSE | G3: FALSE | H3: FALSE | I3: FALSE | J3: FALSE | K3: FALSE | L3: FALSE | M3: FALSE | O3: =IF(OR(P3>1,Q3>1,R3>1),"Please only select one answer, per row, per use case","") | P3: =COUNTIF(E3:G3,"true") -> 0 | Q3: =COUNTIF(H3:J3,"true") -> 0 | R3: =COUNTIF(K3:M3,"true") -> 0
A4: Product and content development | B4: Provide the content and functionalities through a range of channels in addition to the mobile app so that it is accessible to all farmers | D4: Use SMS / OBD and USSD to serve users with hearing impairment, or without mobile internet access, IM platform (e.g. WhatsApp) for those with feature- or smartphones and mobile internet. | E4: FALSE | F4: FALSE | G4: FALSE | H4: FALSE | I4: FALSE | J4: FALSE | K4: FALSE | L4: FALSE | M4: FALSE | O4: =IF(OR(P4>1,Q4>1,R4>1),"Please only select one answer, per row, per use case","") | P4: =COUNTIF(E4:G4,"true") -> 0 | Q4: =COUNTIF(H4:J4,"true") -> 0 | R4: =COUNTIF(K4:M4,"true") -> 0
D5: Use IVR, voice calls or a helpline to service users with visual impairment, who are blind or illiterate and without mobile internet access. | E5: FALSE | F5: FALSE | G5: FALSE | H5: FALSE | I5: FALSE | J5: FALSE | K5: FALSE | L5: FALSE | M5: FALSE | O5: =IF(OR(P5>1,Q5>1,R5>1),"Please only select one answer, per row, per use case","") | P5: =COUNTIF(E5:G5,"true") -> 0 | Q5: =COUNTIF(H5:J5,"true") -> 0 | R5: =COUNTIF(K5:M5,"true") -> 0
A6: Ask your team | B6: What combination of channels should the digital solution be provided in to ensure it is accessible to all farmers? | D6: Use of video calls can support smartphone users with hearing impairment, or those who are illiterate. | E6: FALSE | F6: FALSE | G6: FALSE | H6: FALSE | I6: FALSE | J6: FALSE | O6: =IF(OR(P6>1,Q6>1,R6>1),"Please only select one answer, per row, per use case","") | P6: =COUNTIF(E6:G6,"true") -> 0 | Q6: =COUNTIF(H6:J6,"true") -> 0 | R6: =COUNTIF(K6:M6,"true") -> 0
D7: Consider supplementing digital content with printed material (incl. in Braille), or through sign language. | E7: FALSE | F7: FALSE | G7: FALSE | O7: =IF(OR(P7>1,Q7>1,R7>1),"Please only select one answer, per row, per use case","") | P7: =COUNTIF(E7:G7,"true") -> 0 | Q7: =COUNTIF(H7:J7,"true") -> 0 | R7: =COUNTIF(K7:M7,"true") -> 0
A9: Phase | B9: Recommendation | D9: Ensure that colours for the text, graphics, and background have sufficient contrast when viewed by someone with colour-blindness or on a black and white screen. | E9: FALSE | F9: FALSE | G9: FALSE | H9: FALSE | I9: FALSE | J9: FALSE | K9: FALSE | L9: FALSE | M9: FALSE | O9: =IF(OR(P9>1,Q9>1,R9>1),"Please only select one answer, per row, per use case","") | P9: =COUNTIF(E9:G9,"true") -> 0 | Q9: =COUNTIF(H9:J9,"true") -> 0 | R9: =COUNTIF(K9:M9,"true") -> 0
A10: Product and content development | B10: Provide the content in formats so that it is accessible to all farmers | D10: Enable adjustable time limits or pause / stop moving to give users enough time to read and use content. | E10: FALSE | F10: FALSE | G10: FALSE | O10: =IF(OR(P10>1,Q10>1,R10>1),"Please only select one answer, per row, per use case","") | P10: =COUNTIF(E10:G10,"true") -> 0 | Q10: =COUNTIF(H10:J10,"true") -> 0 | R10: =COUNTIF(K10:M10,"true") -> 0
D11: Do not use content / images / formats that cause seizures or physical reactions - max three flashes in one second. | E11: FALSE | F11: FALSE | G11: FALSE | O11: =IF(OR(P11>1,Q11>1,R11>1),"Please only select one answer, per row, per use case","") | P11: =COUNTIF(E11:G11,"true") -> 0 | Q11: =COUNTIF(H11:J11,"true") -> 0 | R11: =COUNTIF(K11:M11,"true") -> 0
D12: Structure content so that it is easy to follow, e.g. use headings and sub-headings, keep sections short, provide a glossary for technical words, don't mix different fonts, use font size of at least 12, keep text left aligned, use distinct spacing and bold for emphasis, but allow the user to choose font type and size | E12: FALSE | F12: FALSE | G12: FALSE | H12: FALSE | I12: FALSE | J12: FALSE | K12: FALSE | L12: FALSE | M12: FALSE | O12: =IF(OR(P12>1,Q12>1,R12>1),"Please only select one answer, per row, per use case","") | P12: =COUNTIF(E12:G12,"true") -> 0 | Q12: =COUNTIF(H12:J12,"true") -> 0 | R12: =COUNTIF(K12:M12,"true") -> 0
D13: Create accessible video by providing captions (e.g. closed captions, in English, or translated into local languages), or sign language interpretation | E13: FALSE | F13: FALSE | G13: FALSE | O13: =IF(OR(P13>1,Q13>1,R13>1),"Please only select one answer, per row, per use case","") | P13: =COUNTIF(E13:G13,"true") -> 0 | Q13: =COUNTIF(H13:J13,"true") -> 0 | R13: =COUNTIF(K13:M13,"true") -> 0
A14: Ask your team | B14: Is the content accessible and easy to use for all users? Are visuals accessible to all users? Is the content easy to understand for all users? Is it the mobile app easy to navigate for all users? | D14: Add audio description to ensure accessibility for people with visual impairments. | E14: FALSE | F14: FALSE | G14: FALSE | H14: FALSE | I14: FALSE | J14: FALSE | K14: FALSE | L14: FALSE | M14: FALSE | O14: =IF(OR(P14>1,Q14>1,R14>1),"Please only select one answer, per row, per use case","") | P14: =COUNTIF(E14:G14,"true") -> 0 | Q14: =COUNTIF(H14:J14,"true") -> 0 | R14: =COUNTIF(K14:M14,"true") -> 0
D15: Provide text alternatives for non-text content (e.g. alt-text, large print, speech). | E15: FALSE | F15: FALSE | G15: FALSE | H15: FALSE | I15: FALSE | J15: FALSE | K15: FALSE | L15: FALSE | M15: FALSE | O15: =IF(OR(P15>1,Q15>1,R15>1),"Please only select one answer, per row, per use case","") | P15: =COUNTIF(E15:G15,"true") -> 0 | Q15: =COUNTIF(H15:J15,"true") -> 0 | R15: =COUNTIF(K15:M15,"true") -> 0
D16: Add caption controls at the same menu level as user controls for volume or programme, audio description controls. | E16: FALSE | F16: FALSE | G16: FALSE | O16: =IF(OR(P16>1,Q16>1,R16>1),"Please only select one answer, per row, per use case","") | P16: =COUNTIF(E16:G16,"true") -> 0 | Q16: =COUNTIF(H16:J16,"true") -> 0 | R16: =COUNTIF(K16:M16,"true") -> 0
D17: Provide content in simple language, avoiding jargon and too technical terms, and translated into local languages to assist users who have visual impairments, intellectual impairments or have problem reading. | E17: FALSE | F17: FALSE | G17: FALSE | H17: FALSE | I17: FALSE | J17: FALSE | K17: FALSE | L17: FALSE | M17: FALSE | O17: =IF(OR(P17>1,Q17>1,R17>1),"Please only select one answer, per row, per use case","") | P17: =COUNTIF(E17:G17,"true") -> 0 | Q17: =COUNTIF(H17:J17,"true") -> 0 | R17: =COUNTIF(K17:M17,"true") -> 0
D18: Allow users to change the language settings. | E18: FALSE | F18: FALSE | G18: FALSE | H18: FALSE | I18: FALSE | J18: FALSE | K18: FALSE | L18: FALSE | M18: FALSE | O18: =IF(OR(P18>1,Q18>1,R18>1),"Please only select one answer, per row, per use case","") | P18: =COUNTIF(E18:G18,"true") -> 0 | Q18: =COUNTIF(H18:J18,"true") -> 0 | R18: =COUNTIF(K18:M18,"true") -> 0
D19: Make content appear and operate in predictable ways by presenting recurring features like the navigation bar, headings and logos consistently. | E19: FALSE | F19: FALSE | G19: FALSE | H19: FALSE | I19: FALSE | J19: FALSE | K19: FALSE | L19: FALSE | M19: FALSE | O19: =IF(OR(P19>1,Q19>1,R19>1),"Please only select one answer, per row, per use case","") | P19: =COUNTIF(E19:G19,"true") -> 0 | Q19: =COUNTIF(H19:J19,"true") -> 0 | R19: =COUNTIF(K19:M19,"true") -> 0
D20: Reduce the number of apps required for following certification guidelines. | K20: FALSE | L20: FALSE | M20: FALSE | O20: =IF(OR(P20>1,Q20>1,R20>1),"please only select one answer per use case","") | P20: =COUNTIF(E20:G20,"true") -> 0 | Q20: =COUNTIF(H20:J20,"true") -> 0 | R20: =COUNTIF(K20:M20,"true") -> 0
A22: Phase | B22: Recommendation | D22: Make content screen-readable (e.g. text to speak) / add an audio helper to increase accessibility for smartphone. users with visual impairments, who are blind, or illiterate | E22: FALSE | F22: FALSE | G22: FALSE | H22: FALSE | I22: FALSE | J22: FALSE | K22: FALSE | L22: FALSE | M22: FALSE | O22: =IF(OR(P22>1,Q22>1,R22>1),"Please only select one answer, per row, per use case","") | P22: =COUNTIF(E22:G22,"true") -> 0 | Q22: =COUNTIF(H22:J22,"true") -> 0 | R22: =COUNTIF(K22:M22,"true") -> 0
A23: Product and content development | B23: Provide the content and functionalities with accessibility features so that it is accessible to all farmers | D23: Use speech-to-text features available on smartphone to support customers with visual impairments, who are blind, physically impairments, or illiterate. | E23: FALSE | F23: FALSE | G23: FALSE | H23: FALSE | I23: FALSE | J23: FALSE | K23: FALSE | L23: FALSE | M23: FALSE | O23: =IF(OR(P23>1,Q23>1,R23>1),"Please only select one answer, per row, per use case","") | P23: =COUNTIF(E23:G23,"true") -> 0 | Q23: =COUNTIF(H23:J23,"true") -> 0 | R23: =COUNTIF(K23:M23,"true") -> 0
A24: Ask your team | B24: What accessibility features could be added to digital solutions to make them more accessible and usable to all types of users? Will customer support be provided in a way that meets the different needs of users? | D24: Add a text / font size magnifier to increase accessibility of content for users with a visual impairment using smartphones. | E24: FALSE | F24: FALSE | G24: FALSE | H24: FALSE | I24: FALSE | J24: FALSE | K24: FALSE | L24: FALSE | M24: FALSE | O24: =IF(OR(P24>1,Q24>1,R24>1),"Please only select one answer, per row, per use case","") | P24: =COUNTIF(E24:G24,"true") -> 0 | Q24: =COUNTIF(H24:J24,"true") -> 0 | R24: =COUNTIF(K24:M24,"true") -> 0
D25: Allow vibrating alerts to support users who are hard of hearing or deaf. | E25: FALSE | F25: FALSE | G25: FALSE | H25: FALSE | I25: FALSE | J25: FALSE | K25: FALSE | L25: FALSE | M25: FALSE | O25: =IF(OR(P25>1,Q25>1,R25>1),"Please only select one answer, per row, per use case","") | P25: =COUNTIF(E25:G25,"true") -> 0 | Q25: =COUNTIF(H25:J25,"true") -> 0 | R25: =COUNTIF(K25:M25,"true") -> 0
D26: Make solutions compatible with current user devices and assistive technologies. | E26: FALSE | F26: FALSE | G26: FALSE | H26: FALSE | I26: FALSE | J26: FALSE | K26: FALSE | L26: FALSE | M26: FALSE | O26: =IF(OR(P26>1,Q26>1,R26>1),"Please only select one answer, per row, per use case","") | P26: =COUNTIF(E26:G26,"true") -> 0 | Q26: =COUNTIF(H26:J26,"true") -> 0 | R26: =COUNTIF(K26:M26,"true") -> 0
D27: Ensure that accessibility features don't disrupt platform features. | E27: FALSE | F27: FALSE | G27: FALSE | H27: FALSE | I27: FALSE | J27: FALSE | K27: FALSE | L27: FALSE | M27: FALSE | O27: =IF(OR(P27>1,Q27>1,R27>1),"Please only select one answer, per row, per use case","") | P27: =COUNTIF(E27:G27,"true") -> 0 | Q27: =COUNTIF(H27:J27,"true") -> 0 | R27: =COUNTIF(K27:M27,"true") -> 0
D28: Whitelist and priority route numbers belonging to customers with disabilities to dedicated customer care teams. | E28: FALSE | F28: FALSE | G28: FALSE | H28: FALSE | I28: FALSE | J28: FALSE | K28: FALSE | L28: FALSE | M28: FALSE | O28: =IF(OR(P28>1,Q28>1,R28>1),"Please only select one answer, per row, per use case","") | P28: =COUNTIF(E28:G28,"true") -> 0 | Q28: =COUNTIF(H28:J28,"true") -> 0 | R28: =COUNTIF(K28:M28,"true") -> 0
A30: Phase | B30: Recommendation | D30: Use "person-first language": e.g. " persons with disabilities", not "disabled persons" when referring to this customer group. | E30: FALSE | F30: FALSE | G30: FALSE | H30: FALSE | I30: FALSE | J30: FALSE | K30: FALSE | L30: FALSE | M30: FALSE | O30: =IF(OR(P30>1,Q30>1,R30>1),"Please only select one answer, per row, per use case","") | P30: =COUNTIF(E30:G30,"true") -> 0 | Q30: =COUNTIF(H30:J30,"true") -> 0 | R30: =COUNTIF(K30:M30,"true") -> 0
A31: Product and content development | B31: Make the tone inclusive | D31: Validate the content to ensure accuracy after changes, e.g. through agri experts or a committee. | E31: FALSE | F31: FALSE | G31: FALSE | K31: FALSE | L31: FALSE | M31: FALSE | O31: =IF(OR(P31>1,Q31>1,R31>1),"Please only select one answer, per row, per use case","") | P31: =COUNTIF(E31:G31,"true") -> 0 | Q31: =COUNTIF(H31:J31,"true") -> 0 | R31: =COUNTIF(K31:M31,"true") -> 0
A32: Ask your team | B32: Does the content use inclusive language? Is the content correct and inclusive after iterations? | D32: Check if the content is actionable, clear, geographically relevant, timely and usefull for persons with disabilities and other groups to ensure high quality content. | E32: FALSE | F32: FALSE | G32: FALSE | O32: =IF(OR(P32>1,Q32>1,R32>1),"Please only select one answer, per row, per use case","") | P32: =COUNTIF(E32:G32,"true") -> 0 | Q32: =COUNTIF(H32:J32,"true") -> 0 | R32: =COUNTIF(K32:M32,"true") -> 0
D33: Include a gender and disability review with local experts familiar with the local context to ensure the content has maintained an inclusive tone and approach. | E33: FALSE | F33: FALSE | G33: FALSE | K33: FALSE | L33: FALSE | M33: FALSE | O33: =IF(OR(P33>1,Q33>1,R33>1),"Please only select one answer, per row, per use case","") | P33: =COUNTIF(E33:G33,"true") -> 0 | Q33: =COUNTIF(H33:J33,"true") -> 0 | R33: =COUNTIF(K33:M33,"true") -> 0
D35: Total | E35: =COUNTIF(E3:E33,TRUE)+COUNTIF(F3:F33,TRUE)/2 -> 0 | H35: =COUNTIF(H3:H33,TRUE)+COUNTIF(I3:I33,TRUE)/2 -> 0 | K35: =COUNTIF(K3:K33,TRUE)+COUNTIF(L3:L33,TRUE)/2 -> 0
E36: =IF(OR($P$3>1,$P$4>1, $Q$3>1, $Q$4>1, $R$3>1,$R$4>1,$P$5>1,$Q$5>1, $R$5>1, $P$6>1,$Q$6>1, $R$6>1, $P$7>1,$Q$7>1, $R$7>1, $P$10>1,$Q$10>1, $R$10>1, $P$9>1,$Q$9>1, $R$9>1, $P$11>1,$Q$11>1, $R$11>1, $P$12>1,$Q$12>1, $R$12>1, $P$13>1,$Q$13>1, $R$13>1, $P$14>1,$Q$14>1, $R$14>1, $P$15>1,$Q$15>1, $R$15>1, $P$16>1,$Q$16>1, $R$16>1, $P$17>1,$Q$17>1, $R$17>1, $P$18>1,$Q$18>1, $R$18>1, $P$19>1,$Q$19>1, $R$19>1, $P$20>1,$Q$20>1, $R$20>1, $P$22>1,$Q$22>1, $R$22>1, $P$23>1,$Q$23>1, $R$23>1, $P$24>1,$Q$24>1, $R$24>1, $P$25>1,$Q$25>1, $R$25>1, $P$26>1,$Q$26>1, $R$26>1, $P$27>1,$Q$27>1, $R$27>1, $P$28>1,$Q$28>1, $R$28>1, $P$30>1,$Q$30>1, $R$30>1, $P$31>1,$Q$31>1, $R$31>1, $P$32>1,$Q$32>1, $R$32>1, $P$33>1,$Q$33>1, $R$33>1,),"Please only select one answer, per row, per use case","") | F36: =IF(OR(G36>1,H36>1,I36>1),"please only select one answer per use case","") -> please only select one answer per use case | G36: =IF(OR(H36>1,I36>1,J36>1),"please only select one answer per use case","") -> please only select one answer per use case | H36: =IF(OR(I36>1,J36>1,K36>1),"please only select one answer per use case","") -> please only select one answer per use case | I36: =IF(OR(J36>1,K36>1,L36>1),"please only select one answer per use case","") -> please only select one answer per use case | J36: =IF(OR(K36>1,L36>1,M36>1),"please only select one answer per use case","") -> please only select one answer per use case | K36: =IF(OR(L36>1,M36>1,N36>1),"please only select one answer per use case","") -> please only select one answer per use case | L36: =IF(OR(M36>1,N36>1,O36>1),"please only select one answer per use case","") -> please only select one answer per use case | M36: =IF(OR(N36>1,O36>1,P36>1),"please only select one answer per use case","") | R36: =COUNTIF(P3:R33,">1.9") -> 0
D37: To some extent | F37: =COUNTIF(F3:F33, "To some extent")/2 -> 0 | I37: =COUNTIF(I3:I33, "To some extent")/2 -> 0 | L37: =COUNTIF(L3:L33, "To some extent")/2 -> 0
D38: Yes | F38: =COUNTIF(F3:F33, "Yes") -> 0 | I38: =COUNTIF(I3:I33, "Yes") -> 0 | L38: =COUNTIF(L3:L33, "Yes") -> 0
R39: =IF(R36>0.9,"Please check tab for errors","")
A40: Please only select one answer per use case per row.

Sheet 5 - User acceptance testing
A1: Stage | B1: User Acceptance Testing | D1: Activity checklist | E1: Digital advisory services | H1: Agri DFS | K1: Digital procurement | N1: Explain your answer | O1: Any errors | P1: CHECK
D2: Are you planning to: | E2: Yes | F2: To Some Extent | G2: No | H2: Yes | I2: To Some Extent | J2: No | K2: Yes | L2: To Some Extent | M2: No
A3: Phase | B3: Recommendation | D3: Test if persons with different skills and different user profiles can navigate the customer journey as part of the iteration, or if any barriers to access and use exist before launching the product. | E3: FALSE | F3: FALSE | G3: FALSE | H3: FALSE | I3: FALSE | J3: FALSE | K3: FALSE | L3: FALSE | M3: FALSE | O3: =IF(OR(P3>1,Q3>1,R3>1),"Please only select one answer, per row, per use case","") | P3: =COUNTIF(E3:G3,"true") -> 0 | Q3: =COUNTIF(H3:J3,"true") -> 0 | R3: =COUNTIF(K3:M3,"true") -> 0
A4: Verification | B4: Ensure that the solution is accessible and usable by all users | D4: Seek to identify what is required of the user to be able to access, use and understand the information and messages (e.g. type of device, connection, literacy levels). Liase with accessibility experts if your team lacks the expertise. | E4: FALSE | F4: FALSE | G4: FALSE | H4: FALSE | I4: FALSE | J4: FALSE | K4: FALSE | L4: FALSE | M4: FALSE | O4: =IF(OR(P4>1,Q4>1,R4>1),"Please only select one answer, per row, per use case","") | P4: =COUNTIF(E4:G4,"true") -> 0 | Q4: =COUNTIF(H4:J4,"true") -> 0 | R4: =COUNTIF(K4:M4,"true") -> 0
A5: Ask your team | B5: Is the solution ready to be launched or does it require further iterations? | D5: Test the app in an accessibility checker such as IBM's Equal Access Accessibility Checker at https://www.ibm.com/able/toolkit/. | E5: FALSE | F5: FALSE | G5: FALSE | H5: FALSE | I5: FALSE | J5: FALSE | K5: FALSE | L5: FALSE | M5: FALSE | O5: =IF(OR(P5>1,Q5>1,R5>1),"Please only select one answer, per row, per use case","") | P5: =COUNTIF(E5:G5,"true") -> 0 | Q5: =COUNTIF(H5:J5,"true") -> 0 | R5: =COUNTIF(K5:M5,"true") -> 0
D7: Total | E7: =COUNTIF(E3:E5,TRUE)+COUNTIF(F3:F5,TRUE)/2 -> 0 | H7: =COUNTIF(H3:H5,TRUE)+COUNTIF(I3:I5,TRUE)/2 -> 0 | K7: =COUNTIF(K3:K5,TRUE)+COUNTIF(L3:L5,TRUE)/2 -> 0
E8: =IF(OR($P$3>1,$P$4>1, $Q$3>1, $Q$4>1, $R$3>1,$R$4>1, $R$5>1,$P$5>1, $Q$5>1,),"Please only select one answer, per row, per use case","") | F8: =IF(OR(G8>1,H8>1,I8>1),"please only select one answer per use case","") -> please only select one answer per use case | G8: =IF(OR(H8>1,I8>1,J8>1),"please only select one answer per use case","") -> please only select one answer per use case | H8: =IF(OR(I8>1,J8>1,K8>1),"please only select one answer per use case","") -> please only select one answer per use case | I8: =IF(OR(J8>1,K8>1,L8>1),"please only select one answer per use case","") -> please only select one answer per use case | J8: =IF(OR(K8>1,L8>1,M8>1),"please only select one answer per use case","") -> please only select one answer per use case | K8: =IF(OR(L8>1,M8>1,N8>1),"please only select one answer per use case","") -> please only select one answer per use case | L8: =IF(OR(M8>1,N8>1,O8>1),"please only select one answer per use case","") -> please only select one answer per use case | M8: =IF(OR(N8>1,O8>1,P8>1),"please only select one answer per use case","") | R8: =COUNTIF(P3:R5,">1.9") -> 0
D9: To some extent | F9: =COUNTIF(F3:F5, "To some extent")/2 -> 0 | I9: =COUNTIF(I3:I5, "To some extent")/2 -> 0 | L9: =COUNTIF(L3:L5, "To some extent")/2 -> 0
D10: Yes | F10: =COUNTIF(F3:F5, "Yes") -> 0 | I10: =COUNTIF(I3:I5, "Yes") -> 0 | L10: =COUNTIF(L3:L5, "Yes") -> 0
R11: =IF(R8>0.9,"Please check tab for errors","")
A12: Please only select one answer per use case per row.

Sheet 6 - Product launch
A1: Stage | B1: Product launch | D1: Activity checklist | E1: Digital advisory services | H1: Agri DFS | K1: Digital procurement | N1: Explain your answer | O1: Any errors | P1: CHECK
D2: Are you planning to: | E2: Yes | F2: To Some Extent | G2: No | H2: Yes | I2: To Some Extent | J2: No | K2: Yes | L2: To Some Extent | M2: No
A3: Phase | B3: Recommendation | D3: Make the product affordable to farmers with disabilities and other underserved groups. | E3: FALSE | F3: FALSE | G3: FALSE | H3: FALSE | I3: FALSE | J3: FALSE | K3: FALSE | L3: FALSE | M3: FALSE | O3: =IF(OR(P3>1,Q3>1,R3>1),"Please only select one answer, per row, per use case","") | P3: =COUNTIF(E3:G3,"true") -> 0 | Q3: =COUNTIF(H3:J3,"true") -> 0 | R3: =COUNTIF(K3:M3,"true") -> 0
A4: Pricing | B4: Introduce affordable products and services that meet the needs of customers with different abilities
A5: Ask your team | B5: Is the product affordable to farmers with disabilities or other disadvantages?
A7: Phase | B7: Recommendation | D7: Use trusted information channels for marketing (e.g. radio, associations). | E7: FALSE | F7: FALSE | G7: FALSE | H7: FALSE | I7: FALSE | J7: FALSE | K7: FALSE | L7: FALSE | M7: FALSE | O7: =IF(OR(P7>1,Q7>1,R7>1),"Please only select one answer, per row, per use case","") | P7: =COUNTIF(E7:G7,"true") -> 0 | Q7: =COUNTIF(H7:J7,"true") -> 0 | R7: =COUNTIF(K7:M7,"true") -> 0
A8: Marketing | B8: Market products and services that meet the needs of customers with different abilities | D8: Use face to face engagements to recruit, sensitise and educate farmers who are underserved, disconnected, illiterate or are excluded for other reasons”. | E8: FALSE | F8: FALSE | G8: FALSE | H8: FALSE | I8: FALSE | J8: FALSE | K8: FALSE | L8: FALSE | M8: FALSE | O8: =IF(OR(P8>1,Q8>1,R8>1),"Please only select one answer, per row, per use case","") | P8: =COUNTIF(E8:G8,"true") -> 0 | Q8: =COUNTIF(H8:J8,"true") -> 0 | R8: =COUNTIF(K8:M8,"true") -> 0
A9: Ask your team | B9: Is there a marketing channel which involves hands-on onboarding and education of users? Are distribution channels which can help reach disadvantaged groups like farmers with disabilities, women, older people specifically targeted? Do users see the relevance of the opportunity for themselves? | D9: Work with the identified trusted groups (e.g. community associations, OPDs) to identify and reach those at risk of exclusion to build trust and sensitise them in order to facilitate onboarding. | E9: FALSE | F9: FALSE | G9: FALSE | H9: FALSE | I9: FALSE | J9: FALSE | K9: FALSE | L9: FALSE | M9: FALSE | O9: =IF(OR(P9>1,Q9>1,R9>1),"Please only select one answer, per row, per use case","") | P9: =COUNTIF(E9:G9,"true") -> 0 | Q9: =COUNTIF(H9:J9,"true") -> 0 | R9: =COUNTIF(K9:M9,"true") -> 0
D10: Showcase potential customers the opportunities gained and success stories by e.g. other farmers with disadvantages who have used the service (social proof). | E10: FALSE | F10: FALSE | G10: FALSE | H10: FALSE | I10: FALSE | J10: FALSE | K10: FALSE | L10: FALSE | M10: FALSE | O10: =IF(OR(P10>1,Q10>1,R10>1),"Please only select one answer, per row, per use case","") | P10: =COUNTIF(E10:G10,"true") -> 0 | Q10: =COUNTIF(H10:J10,"true") -> 0 | R10: =COUNTIF(K10:M10,"true") -> 0
D11: Use diverse campaigns that include persons with disabilities, men and women, older and younger people. | E11: FALSE | F11: FALSE | G11: FALSE | H11: FALSE | I11: FALSE | J11: FALSE | K11: FALSE | L11: FALSE | M11: FALSE | O11: =IF(OR(P11>1,Q11>1,R11>1),"Please only select one answer, per row, per use case","") | P11: =COUNTIF(E11:G11,"true") -> 0 | Q11: =COUNTIF(H11:J11,"true") -> 0 | R11: =COUNTIF(K11:M11,"true") -> 0
A13: Phase | B13: Recommendation | D13: Capture data on gender as part of registration and profiling. | E13: FALSE | F13: FALSE | G13: FALSE | H13: FALSE | I13: FALSE | J13: FALSE | K13: FALSE | L13: FALSE | M13: FALSE | O13: =IF(OR(P13>1,Q13>1,R13>1),"Please only select one answer, per row, per use case","") | P13: =COUNTIF(E13:G13,"true") -> 0 | Q13: =COUNTIF(H13:J13,"true") -> 0 | R13: =COUNTIF(K13:M13,"true") -> 0
A14: Onboarding | B14: Understand your customers, their needs and preferences | D14: Offer the opportunity to register a user's literacy level, preference for language and communication format, and potential disability, e.g. by using the Washington Group Questions at https://www.washingtongroup-disability.com/ | E14: FALSE | F14: FALSE | G14: FALSE | H14: FALSE | I14: FALSE | J14: FALSE | K14: FALSE | L14: FALSE | M14: FALSE | O14: =IF(OR(P14>1,Q14>1,R14>1),"Please only select one answer, per row, per use case","") | P14: =COUNTIF(E14:G14,"true") -> 0 | Q14: =COUNTIF(H14:J14,"true") -> 0 | R14: =COUNTIF(K14:M14,"true") -> 0
A15: Ask your team | B15: Can you identify customers with distinct characteristics and needs? Can you gather data on the user's preferences and needs? | D15: Follow the national policies and regulations on data privacy. | E15: FALSE | F15: FALSE | G15: FALSE | H15: FALSE | I15: FALSE | J15: FALSE | K15: FALSE | L15: FALSE | M15: FALSE | O15: =IF(OR(P15>1,Q15>1,R15>1),"Please only select one answer, per row, per use case","") | P15: =COUNTIF(E15:G15,"true") -> 0 | Q15: =COUNTIF(H15:J15,"true") -> 0 | R15: =COUNTIF(K15:M15,"true") -> 0
D16: Explain to the customer in clear and simple language how data will be used and stored. | E16: FALSE | F16: FALSE | G16: FALSE | H16: FALSE | I16: FALSE | J16: FALSE | K16: FALSE | L16: FALSE | M16: FALSE | O16: =IF(OR(P16>1,Q16>1,R16>1),"Please only select one answer, per row, per use case","") | P16: =COUNTIF(E16:G16,"true") -> 0 | Q16: =COUNTIF(H16:J16,"true") -> 0 | R16: =COUNTIF(K16:M16,"true") -> 0
D17: Offer opt-in customer support to redirect customers to appropriate support centers, and to choose their preferences for language, channels and format of support and information. | E17: FALSE | F17: FALSE | G17: FALSE | H17: FALSE | I17: FALSE | J17: FALSE | K17: FALSE | L17: FALSE | M17: FALSE | O17: =IF(OR(P17>1,Q17>1,R17>1),"Please only select one answer, per row, per use case","") | P17: =COUNTIF(E17:G17,"true") -> 0 | Q17: =COUNTIF(H17:J17,"true") -> 0 | R17: =COUNTIF(K17:M17,"true") -> 0
A19: Phase | B19: Recommendation | D19: Use proportional KYC requirements for registration of users e.g. without formal ID. | H19: FALSE | I19: FALSE | J19: FALSE | O19: =IF(OR(P19>1,Q19>1,R19>1),"Please only select one answer, per row, per use case","") | P19: =COUNTIF(E19:G19,"true") -> 0 | Q19: =COUNTIF(H19:J19,"true") -> 0 | R19: =COUNTIF(K19:M19,"true") -> 0
A20: Onboarding | B20: Make registration for mobile money inclusive for farmers without formal ID | D20: Provide higher transaction limits for farmers without formal ID. | H20: FALSE | I20: FALSE | J20: FALSE | O20: =IF(OR(P20>1,Q20>1,R20>1),"Please only select one answer, per row, per use case","") | P20: =COUNTIF(E20:G20,"true") -> 0 | Q20: =COUNTIF(H20:J20,"true") -> 0 | R20: =COUNTIF(K20:M20,"true") -> 0
A21: Ask your team | B21: Are potential users already at risk of financial exclusion able to register for the service? | D21: Allow letters from agribusinesses to be used for registration when formal ID is missing. | H21: FALSE | I21: FALSE | J21: FALSE | O21: =IF(OR(P21>1,Q21>1,R21>1),"Please only select one answer, per row, per use case","") | P21: =COUNTIF(E21:G21,"true") -> 0 | Q21: =COUNTIF(H21:J21,"true") -> 0 | R21: =COUNTIF(K21:M21,"true") -> 0
D22: Register voice for identification and verification using voice biometrics. | H22: FALSE | I22: FALSE | J22: FALSE | O22: =IF(OR(P22>1,Q22>1,R22>1),"Please only select one answer, per row, per use case","") | P22: =COUNTIF(E22:G22,"true") -> 0 | Q22: =COUNTIF(H22:J22,"true") -> 0 | R22: =COUNTIF(K22:M22,"true") -> 0
A24: Phase Onboarding | B24: Recommendation Ensure that the digital procurement / extension services is relevant to the user to facilitate registration | D24: Create specific incentives aimed at farmers with disabilities and other underserved groups. | E24: FALSE | F24: FALSE | G24: FALSE | H24: FALSE | I24: FALSE | J24: FALSE | K24: FALSE | L24: FALSE | M24: FALSE | O24: =IF(OR(P24>1,Q24>1,R24>1),"Please only select one answer, per row, per use case","") | P24: =COUNTIF(E24:G24,"true") -> 0 | Q24: =COUNTIF(H24:J24,"true") -> 0 | R24: =COUNTIF(K24:M24,"true") -> 0
A25: Ask your team | B25: Are the services relevant to farmers with different abilities? | D25: Tailor packages to decrease the barrier for adoption and hidden costs by low income and marginalised customers. | E25: FALSE | F25: FALSE | G25: FALSE | H25: FALSE | I25: FALSE | J25: FALSE | K25: FALSE | L25: FALSE | M25: FALSE | O25: =IF(OR(P25>1,Q25>1,R25>1),"Please only select one answer, per row, per use case","") | P25: =COUNTIF(E25:G25,"true") -> 0 | Q25: =COUNTIF(H25:J25,"true") -> 0 | R25: =COUNTIF(K25:M25,"true") -> 0
A27: Phase | B27: Recommendation | D27: Train and sensitise selected staff (customer facing in particular, e.g. customer support, extension officers) on inclusion practices, and on how to provide services and support to persons with disabilities depending on the disability. If the expertise is lacking internally, training should be provided by persons with disabilities, OPDs or or disability inclusion experts. | E27: FALSE | F27: FALSE | G27: FALSE | H27: FALSE | I27: FALSE | J27: FALSE | K27: FALSE | L27: FALSE | M27: FALSE | O27: =IF(OR(P27>1,Q27>1,R27>1),"Please only select one answer, per row, per use case","") | P27: =COUNTIF(E27:G27,"true") -> 0 | Q27: =COUNTIF(H27:J27,"true") -> 0 | R27: =COUNTIF(K27:M27,"true") -> 0
A28: Capacity building and sensitisation | B28: Provide capacity building to relevant staff and intermediaries | D28: Provide training and material to extension officers to train customers in using accessibility features to service farmers with disabilities and other underserved farmers/groups, e.g. by using GSMA's MISTT toolkit.(https://www.gsma.com/mobilefordevelopment/connected-society/mistt/) | E28: FALSE | F28: FALSE | G28: FALSE | O28: =IF(OR(P28>1,Q28>1,R28>1),"Please only select one answer, per row, per use case","") | P28: =COUNTIF(E28:G28,"true") -> 0 | Q28: =COUNTIF(H28:J28,"true") -> 0 | R28: =COUNTIF(K28:M28,"true") -> 0
A29: Ask your team | B29: Are agribusiness staff equipped to support the needs of customers with disabilities or disadvantages? Are MM agents equipped to serve persons with disabilities? | D29: Employ field agents who are women, persons with disabilities, youth etc. | E29: FALSE | F29: FALSE | G29: FALSE | H29: FALSE | I29: FALSE | J29: FALSE | K29: FALSE | L29: FALSE | M29: FALSE | O29: =IF(OR(P29>1,Q29>1,R29>1),"Please only select one answer, per row, per use case","") | P29: =COUNTIF(E29:G29,"true") -> 0 | Q29: =COUNTIF(H29:J29,"true") -> 0 | R29: =COUNTIF(K29:M29,"true") -> 0
D30: Provide trainining in sign language to select, customer facing staff. | E30: FALSE | F30: FALSE | G30: FALSE | K30: FALSE | L30: FALSE | M30: FALSE | O30: =IF(OR(P30>1,Q30>1,R30>1),"Please only select one answer, per row, per use case","") | P30: =COUNTIF(E30:G30,"true") -> 0 | Q30: =COUNTIF(H30:J30,"true") -> 0 | R30: =COUNTIF(K30:M30,"true") -> 0
D31: Provide training on how to provide services and support to persons with disabilities, in sign language; and, where possible, training should be provided by persons with disabilities. Provide material to mobile money agents to train customers in using accessibility features service farmers with disadvantages, e.g. by using GSMA's MISTT module on accessibility features. | H31: FALSE | I31: FALSE | J31: FALSE | O31: =IF(OR(P31>1,Q31>1,R31>1),"Please only select one answer, per row, per use case","") | P31: =COUNTIF(E31:G31,"true") -> 0 | Q31: =COUNTIF(H31:J31,"true") -> 0 | R31: =COUNTIF(K31:M31,"true") -> 0
A33: Phase | B33: Recommendation | D33: Provide digital skills and digital literacy training on how to use the service. | E33: FALSE | F33: FALSE | G33: FALSE | H33: FALSE | I33: FALSE | J33: FALSE | K33: FALSE | L33: FALSE | M33: FALSE | O33: =IF(OR(P33>1,Q33>1,R33>1),"Please only select one answer, per row, per use case","") | P33: =COUNTIF(E33:G33,"true") -> 0 | Q33: =COUNTIF(H33:J33,"true") -> 0 | R33: =COUNTIF(K33:M33,"true") -> 0
A34: Capacity building and sensitisation | B34: Provide digital skills training on how to use the service to customers
A35: Ask your team | B35: Do users have the basic digital skills needed to use the solution?
A38: Phase | B38: Recommendation | D38: Use biometric or IVR for added security. | H38: FALSE | I38: FALSE | J38: FALSE | O38: =IF(OR(P38>1,Q38>1,R38>1),"Please only select one answer, per row, per use case","") | P38: =COUNTIF(E38:G38,"true") -> 0 | Q38: =COUNTIF(H38:J38,"true") -> 0 | R38: =COUNTIF(K38:M38,"true") -> 0
A39: Service provision | B39: Reduce risks associated with use of mobile money and digital financial services | D39: Ensure that digital skills and literacy training relates to safe usage of digital financial services. | H39: FALSE | I39: FALSE | J39: FALSE | O39: =IF(OR(P39>1,Q39>1,R39>1),"Please only select one answer, per row, per use case","") | P39: =COUNTIF(E39:G39,"true") -> 0 | Q39: =COUNTIF(H39:J39,"true") -> 0 | R39: =COUNTIF(K39:M39,"true") -> 0
